BEGIN:VCALENDAR
VERSION:2.0
PRODID:-//eventon.com NONSGML v1.0//EN
CALSCALE:GREGORIAN
METHOD:PUBLISH
BEGIN:VEVENT
UID:69e8030c2894d
DTSTAMP:20260422T010652
DTSTART:20210226T110000Z
DTEND:20210226T130000Z
TZID:Europe/Amsterdam
LOCATION:
SUMMARY:Bernadette & Peter
DESCRIPTION:Bernadette &amp; Peter\nhttps://www.compchem.nl/events/bernadette-peter/
URL:https://www.compchem.nl/events/bernadette-peter/
END:VEVENT
END:VCALENDAR