BEGIN:VCALENDAR
VERSION:2.0
PRODID:-//eventon.com NONSGML v1.0//EN
CALSCALE:GREGORIAN
METHOD:PUBLISH
BEGIN:VEVENT
UID:69ebffbb32707
DTSTAMP:20260425T014147
DTSTART:20210910T110000Z
DTEND:20210910T130000Z
TZID:Europe/Amsterdam
LOCATION:
SUMMARY:Jocelyne
DESCRIPTION:Jocelyne\nhttps://www.compchem.nl/events/ferry-jocelyne/
URL:https://www.compchem.nl/events/ferry-jocelyne/
END:VEVENT
END:VCALENDAR