BEGIN:VCALENDAR
VERSION:2.0
PRODID:-//eventon.com NONSGML v1.0//EN
CALSCALE:GREGORIAN
METHOD:PUBLISH
BEGIN:VEVENT
UID:69eb026c6d931
DTSTAMP:20260424T074100
DTSTART:20230421T110000Z
DTEND:20230421T130000Z
TZID:Europe/Berlin
LOCATION:
SUMMARY:Ashique & Evert Jan
DESCRIPTION:Ashique &amp; Evert Jan\nhttps://www.compchem.nl/events/ashique-evert-jan/
URL:https://www.compchem.nl/events/ashique-evert-jan/
END:VEVENT
END:VCALENDAR